BEGIN:VCALENDAR
VERSION:2.0
PRODID:-//The Proverbs 31 Project, Inc - ECPv6.15.20//NONSGML v1.0//EN
CALSCALE:GREGORIAN
METHOD:PUBLISH
X-ORIGINAL-URL:https://theproverbs31project.org
X-WR-CALDESC:Events for The Proverbs 31 Project, Inc
REFRESH-INTERVAL;VALUE=DURATION:PT1H
X-Robots-Tag:noindex
X-PUBLISHED-TTL:PT1H
BEGIN:VTIMEZONE
TZID:America/New_York
BEGIN:DAYLIGHT
TZOFFSETFROM:-0500
TZOFFSETTO:-0400
TZNAME:EDT
DTSTART:20240310T070000
END:DAYLIGHT
BEGIN:STANDARD
TZOFFSETFROM:-0400
TZOFFSETTO:-0500
TZNAME:EST
DTSTART:20241103T060000
END:STANDARD
BEGIN:DAYLIGHT
TZOFFSETFROM:-0500
TZOFFSETTO:-0400
TZNAME:EDT
DTSTART:20250309T070000
END:DAYLIGHT
BEGIN:STANDARD
TZOFFSETFROM:-0400
TZOFFSETTO:-0500
TZNAME:EST
DTSTART:20251102T060000
END:STANDARD
BEGIN:DAYLIGHT
TZOFFSETFROM:-0500
TZOFFSETTO:-0400
TZNAME:EDT
DTSTART:20260308T070000
END:DAYLIGHT
BEGIN:STANDARD
TZOFFSETFROM:-0400
TZOFFSETTO:-0500
TZNAME:EST
DTSTART:20261101T060000
END:STANDARD
END:VTIMEZONE
BEGIN:VEVENT
DTSTART;TZID=America/New_York:20250315T120000
DTEND;TZID=America/New_York:20250315T150000
DTSTAMP:20260421T115502
CREATED:20250218T052233Z
LAST-MODIFIED:20250218T052233Z
UID:1796-1742040000-1742050800@theproverbs31project.org
SUMMARY:Bible n' Brunch
DESCRIPTION:What is it?\nBible n’ Brunch is an event hosted by The Proverbs 31 Project\, Inc. This lunch date is an immersive and conversational time with women who desire to fellowship with friends\, and delve into the Word of God. \nThe Theme\nWe’re celebrating International Women’s Month\, so our theme for this Bible n’ Brunch is “Her Influence\, His Vision.” We’ll focus our fun and conversations around women being able to positively influence our spheres in line with God’s plan and vision for our lives. \nDon’t wait! Grab your seat!\nSo join us on March 15th\, 2025\, from 12-3 PM in West Boylston\, MA for a faith-filled time. Grab your friends and loved ones\, and reserve your seats!
URL:https://theproverbs31project.org/event/bible-n-brunch/
LOCATION:The Manor\, 42 W Boylston St\, West Boylston\, MA\, 01583\, United States
CATEGORIES:Bible n' Brunch
ATTACH;FMTTYPE=image/jpeg:https://theproverbs31project.org/wp-content/uploads/2025/02/Her-Influence-His-Vision.jpg
END:VEVENT
END:VCALENDAR